BEGIN:VCALENDAR
VERSION:2.0
PRODID:-//RRC Bötzingen - ECPv6.15.11//NONSGML v1.0//EN
CALSCALE:GREGORIAN
METHOD:PUBLISH
X-WR-CALNAME:RRC Bötzingen
X-ORIGINAL-URL:https://rrc-boetzingen.de
X-WR-CALDESC:Veranstaltungen für RRC Bötzingen
REFRESH-INTERVAL;VALUE=DURATION:PT1H
X-Robots-Tag:noindex
X-PUBLISHED-TTL:PT1H
BEGIN:VTIMEZONE
TZID:Europe/Berlin
BEGIN:DAYLIGHT
TZOFFSETFROM:+0100
TZOFFSETTO:+0200
TZNAME:CEST
DTSTART:20190331T010000
END:DAYLIGHT
BEGIN:STANDARD
TZOFFSETFROM:+0200
TZOFFSETTO:+0100
TZNAME:CET
DTSTART:20191027T010000
END:STANDARD
BEGIN:DAYLIGHT
TZOFFSETFROM:+0100
TZOFFSETTO:+0200
TZNAME:CEST
DTSTART:20200329T010000
END:DAYLIGHT
BEGIN:STANDARD
TZOFFSETFROM:+0200
TZOFFSETTO:+0100
TZNAME:CET
DTSTART:20201025T010000
END:STANDARD
BEGIN:DAYLIGHT
TZOFFSETFROM:+0100
TZOFFSETTO:+0200
TZNAME:CEST
DTSTART:20210328T010000
END:DAYLIGHT
BEGIN:STANDARD
TZOFFSETFROM:+0200
TZOFFSETTO:+0100
TZNAME:CET
DTSTART:20211031T010000
END:STANDARD
END:VTIMEZONE
BEGIN:VEVENT
DTSTART;TZID=Europe/Berlin:20200509T000000
DTEND;TZID=Europe/Berlin:20200509T000000
DTSTAMP:20260421T124612
CREATED:20191108T174438Z
LAST-MODIFIED:20191108T174438Z
UID:1529-1588982400-1588982400@rrc-boetzingen.de
SUMMARY:Großer Preis von Deutschland
DESCRIPTION:
URL:https://rrc-boetzingen.de/event/grosser-preis-von-deutschland/
LOCATION:Lippe Berufskolleg\, Otto-Hahn-Straße 25\, Lippstadt\, Nordrhein-Westfalen\, 59557\, Deutschland
CATEGORIES:Turnier
END:VEVENT
END:VCALENDAR