BEGIN:VCALENDAR
VERSION:2.0
PRODID:-//RRC Bötzingen - ECPv6.15.11//NONSGML v1.0//EN
CALSCALE:GREGORIAN
METHOD:PUBLISH
X-WR-CALNAME:RRC Bötzingen
X-ORIGINAL-URL:https://rrc-boetzingen.de
X-WR-CALDESC:Veranstaltungen für RRC Bötzingen
REFRESH-INTERVAL;VALUE=DURATION:PT1H
X-Robots-Tag:noindex
X-PUBLISHED-TTL:PT1H
BEGIN:VTIMEZONE
TZID:Europe/Berlin
BEGIN:DAYLIGHT
TZOFFSETFROM:+0100
TZOFFSETTO:+0200
TZNAME:CEST
DTSTART:20190331T010000
END:DAYLIGHT
BEGIN:STANDARD
TZOFFSETFROM:+0200
TZOFFSETTO:+0100
TZNAME:CET
DTSTART:20191027T010000
END:STANDARD
BEGIN:DAYLIGHT
TZOFFSETFROM:+0100
TZOFFSETTO:+0200
TZNAME:CEST
DTSTART:20200329T010000
END:DAYLIGHT
BEGIN:STANDARD
TZOFFSETFROM:+0200
TZOFFSETTO:+0100
TZNAME:CET
DTSTART:20201025T010000
END:STANDARD
BEGIN:DAYLIGHT
TZOFFSETFROM:+0100
TZOFFSETTO:+0200
TZNAME:CEST
DTSTART:20210328T010000
END:DAYLIGHT
BEGIN:STANDARD
TZOFFSETFROM:+0200
TZOFFSETTO:+0100
TZNAME:CET
DTSTART:20211031T010000
END:STANDARD
END:VTIMEZONE
BEGIN:VEVENT
DTSTART;TZID=Europe/Berlin:20200329T130000
DTEND;TZID=Europe/Berlin:20200329T170000
DTSTAMP:20260421T163518
CREATED:20200126T192149Z
LAST-MODIFIED:20200126T192149Z
UID:4425-1585486800-1585501200@rrc-boetzingen.de
SUMMARY:Kaiserstuhl-Cup 2020
DESCRIPTION:
URL:https://rrc-boetzingen.de/event/kaiserstuhl-cup-2020/
LOCATION:Bötzingen Festhalle\, Hauptstraße 13\, Bötzingen\, Baden-Württemberg\, 79268\, Deutschland
ORGANIZER;CN="RRC im TV B%C3%B6tzingen 1922 e.V.":MAILTO:o.werner@rrc-boetzingen.de
END:VEVENT
END:VCALENDAR