BEGIN:VCALENDAR
VERSION:2.0
PRODID:-//RRC Bötzingen - ECPv6.15.11//NONSGML v1.0//EN
CALSCALE:GREGORIAN
METHOD:PUBLISH
X-WR-CALNAME:RRC Bötzingen
X-ORIGINAL-URL:https://rrc-boetzingen.de
X-WR-CALDESC:Veranstaltungen für RRC Bötzingen
REFRESH-INTERVAL;VALUE=DURATION:PT1H
X-Robots-Tag:noindex
X-PUBLISHED-TTL:PT1H
BEGIN:VTIMEZONE
TZID:Europe/Berlin
BEGIN:DAYLIGHT
TZOFFSETFROM:+0100
TZOFFSETTO:+0200
TZNAME:CEST
DTSTART:20190331T010000
END:DAYLIGHT
BEGIN:STANDARD
TZOFFSETFROM:+0200
TZOFFSETTO:+0100
TZNAME:CET
DTSTART:20191027T010000
END:STANDARD
BEGIN:DAYLIGHT
TZOFFSETFROM:+0100
TZOFFSETTO:+0200
TZNAME:CEST
DTSTART:20200329T010000
END:DAYLIGHT
BEGIN:STANDARD
TZOFFSETFROM:+0200
TZOFFSETTO:+0100
TZNAME:CET
DTSTART:20201025T010000
END:STANDARD
BEGIN:DAYLIGHT
TZOFFSETFROM:+0100
TZOFFSETTO:+0200
TZNAME:CEST
DTSTART:20210328T010000
END:DAYLIGHT
BEGIN:STANDARD
TZOFFSETFROM:+0200
TZOFFSETTO:+0100
TZNAME:CET
DTSTART:20211031T010000
END:STANDARD
END:VTIMEZONE
BEGIN:VEVENT
DTSTART;VALUE=DATE:20200215
DTEND;VALUE=DATE:20200217
DTSTAMP:20260421T174458
CREATED:20200105T185601Z
LAST-MODIFIED:20200105T190258Z
UID:4398-1581724800-1581897599@rrc-boetzingen.de
SUMMARY:Lizenzerhalt für R ’n’ R
DESCRIPTION:Der 15. und 16 Februar 2020 dient neben dem Lizenzerhalt für R ’n’ R\nKursleiter/Trainer C und B auch als Paarschulung für Breitensport- und\nTurnierpaare. Thema vorrangig Turnerische Ausbildung und großes Trampolin.\nKosten pro Teilnehmer 15 Euro.\nAnmeldung Paarschulungen bitte an jugendwart@bwrrv.de\nAnmeldeschluss: Samstag\, 8. Februar 2020\, 18:00 Uhr
URL:https://rrc-boetzingen.de/event/lizenzerhalt-fuer-r-n-r/
LOCATION:Tivoli-Halle in Stuttgart\, Forststraße 15\,\, Stuttgart\, Baden-Württemberg\, 70176
CATEGORIES:Schulung
ORGANIZER;CN="BWRRV e.V.":MAILTO:breitensportwart@bwrrv.de
END:VEVENT
BEGIN:VEVENT
DTSTART;TZID=Europe/Berlin:20200216T100000
DTEND;TZID=Europe/Berlin:20200216T170000
DTSTAMP:20260421T174458
CREATED:20200105T185332Z
LAST-MODIFIED:20200105T190133Z
UID:4395-1581847200-1581872400@rrc-boetzingen.de
SUMMARY:Schulung Paare
DESCRIPTION:Einladung Breitensport und Turnierpaar Schulung  Rock ‚ n ‚ Roll am 16.2.2020 \nWo: Stuttgart Tivoli-Halle in Stuttgart \nAdresse: Forststraße 15\, 70176 Stuttgart \nWann: 16.2.2020 \nUhrzeit: 10 bis ca. 17 Uhr \nPreis: 15\,-€ pro Teilnehmer \nZahlung (bitte passend) am Schulungstag. \nAnmeldung bei: jugendwart@bwrrv.de \nAnmeldeschluss: 8. Februar 2020\, um 19 Uhr \nSportkleidung\, Hallen Sportschuhe\, eventuell Ersatzsocken. \nEssen und Getränke bitte selbst mitbringen. \nSchulungsinhalte: \n\nGroßes Trampolin\nKleines Trampolin\nTurnerische Vorbereitung Aufbau Boden\nAthletik Bereich\n\nDozenten: Fam. Geßwein \nBernd Althaus \nGast Dozenten „Rock ’n’ Roll“ \nFreue mich über Deine/ eure Anmeldung \n  \nBernd Althaus
URL:https://rrc-boetzingen.de/event/schulung-paare/
LOCATION:Tivoli-Halle in Stuttgart\, Forststraße 15\,\, Stuttgart\, Baden-Württemberg\, 70176
CATEGORIES:Schulung
ORGANIZER;CN="BWRRV e.V.":MAILTO:breitensportwart@bwrrv.de
END:VEVENT
END:VCALENDAR