BEGIN:VCALENDAR
VERSION:2.0
PRODID:-//RRC Bötzingen - ECPv6.15.11//NONSGML v1.0//EN
CALSCALE:GREGORIAN
METHOD:PUBLISH
X-ORIGINAL-URL:https://rrc-boetzingen.de
X-WR-CALDESC:Veranstaltungen für RRC Bötzingen
REFRESH-INTERVAL;VALUE=DURATION:PT1H
X-Robots-Tag:noindex
X-PUBLISHED-TTL:PT1H
BEGIN:VTIMEZONE
TZID:Europe/Berlin
BEGIN:DAYLIGHT
TZOFFSETFROM:+0100
TZOFFSETTO:+0200
TZNAME:CEST
DTSTART:20180325T010000
END:DAYLIGHT
BEGIN:STANDARD
TZOFFSETFROM:+0200
TZOFFSETTO:+0100
TZNAME:CET
DTSTART:20181028T010000
END:STANDARD
BEGIN:DAYLIGHT
TZOFFSETFROM:+0100
TZOFFSETTO:+0200
TZNAME:CEST
DTSTART:20190331T010000
END:DAYLIGHT
BEGIN:STANDARD
TZOFFSETFROM:+0200
TZOFFSETTO:+0100
TZNAME:CET
DTSTART:20191027T010000
END:STANDARD
BEGIN:DAYLIGHT
TZOFFSETFROM:+0100
TZOFFSETTO:+0200
TZNAME:CEST
DTSTART:20200329T010000
END:DAYLIGHT
BEGIN:STANDARD
TZOFFSETFROM:+0200
TZOFFSETTO:+0100
TZNAME:CET
DTSTART:20201025T010000
END:STANDARD
END:VTIMEZONE
BEGIN:VEVENT
DTSTART;TZID=Europe/Berlin:20191108T120000
DTEND;TZID=Europe/Berlin:20191108T170000
DTSTAMP:20260421T212230
CREATED:20191108T173504Z
LAST-MODIFIED:20191108T174615Z
UID:1525-1573214400-1573232400@rrc-boetzingen.de
SUMMARY:11. Twisting Grizzly Cup
DESCRIPTION:Mit Jubiläumsparty! \nEinladung
URL:https://rrc-boetzingen.de/event/11-twisting-grizzly-cup/
LOCATION:Rappenbaum Mehrzweckhalle\, Aidlingerstr. 19\, Sindelfingen\, Baden-Württemberg\, 71069\, Deutschland
CATEGORIES:Fest,Wettbewerb
END:VEVENT
END:VCALENDAR